BEGIN:VCALENDAR
VERSION:2.0
PRODID:-//Freundeskreis Hohenlimbuch e.V. - ECPv6.8.0//NONSGML v1.0//EN
CALSCALE:GREGORIAN
METHOD:PUBLISH
X-WR-CALNAME:Freundeskreis Hohenlimbuch e.V.
X-ORIGINAL-URL:https://hohenlimbuch.de
X-WR-CALDESC:Veranstaltungen für Freundeskreis Hohenlimbuch e.V.
REFRESH-INTERVAL;VALUE=DURATION:PT1H
X-Robots-Tag:noindex
X-PUBLISHED-TTL:PT1H
BEGIN:VTIMEZONE
TZID:Europe/Berlin
BEGIN:DAYLIGHT
TZOFFSETFROM:+0100
TZOFFSETTO:+0200
TZNAME:CEST
DTSTART:20240331T010000
END:DAYLIGHT
BEGIN:STANDARD
TZOFFSETFROM:+0200
TZOFFSETTO:+0100
TZNAME:CET
DTSTART:20241027T010000
END:STANDARD
END:VTIMEZONE
BEGIN:VEVENT
DTSTART;TZID=Europe/Berlin:20240722T080000
DTEND;TZID=Europe/Berlin:20240722T170000
DTSTAMP:20260419T192540
CREATED:20240722T101941Z
LAST-MODIFIED:20240722T102019Z
UID:877-1721635200-1721667600@hohenlimbuch.de
SUMMARY:Sommerferienprogramm der Stadtteilbücherei Hohenlimburg
DESCRIPTION:Die Sommerferien stehen schon vor der Tür\, aber nicht alle Kinder in Hohenlimburg\nfahren in den Urlaub. Daher bietet die Stadtteilbücherei Hohenlimburg ein buntes und\nkostenloses Sommerferienprogramm besonders für alle „daheimgebliebenen Kinder“\nan:\nAm Donnerstag\, 18. Juli um 16 Uhr sind dann Kinder ab 5 Jahren zum Kamishibai\neingeladen. Das Märchen „Schneeweißchen und Rosenrot““ steht an diesem\nNachmitttag an: „Das bekannt Märchen der Brüder Grimm von den zwei Schwestern\,\ndie eines Winters Abend für Abend von einem Bären um Einlass gebeten werden\,\nihn lieb gewinnen und schließlich aus der Verwünschung eines bösen Zwerges\nerlösen.\nAm Donnerstag\, 25. Juli findet dann von 10-13 Uhr und von 15-18 Uhr etwas ganz\nBesonderes statt: An diesem Tag findet ein Gaming-Tag für Kinder ab 6 Jahren in\nder Hohenlimburger Bücherei statt: zum Angebot gehören eine PS4-Station und eine\nSwitch. All das soll dazu beitragen\, die Bücherei in Hohenlimburg zu einem Ort zu\nmachen an dem man eine gute Gelegenheit hat\, mit dem Kulturgut „Computerspiel“\nin Kontakt zu kommen\, auch für diejenigen\, denen dieses Medium vielleicht noch\nfremd ist. Eine Anmeldung zum Gaming-Tag ist nicht erforderlich!\nAuch für die Jugendlichen der weiterführenden Schulen in Hagen soll keine\nLangeweile aufkommen: die Stadtbücherei veranstaltet nun schon zum 16. Mal den\nSommerLeseClub (SLC) innerhalb der Sommerferien (27.06. – 30.08.2024)\, der\nnicht nur in Hohenlimburg\, sondern auch in allen anderen Büchereistandorten in\nHagen stattfindet:\nWas beim SommerLeseClub zu beachten ist: Die Teilnehmer können den gesamten\nBestand der Bücherei nutzen und es ist auch möglich sich Stempel für Hörbücher zu\nholen. Zudem findet am Dienstag\, 16. Juli von 16-17.30 Uhr die Aktion „Pimp your\nlogbuch“ statt. Hier besteht die Möglichkeit für alle SLC-Clubber ihr Leselogbuch\naufzuhübschen. Auch ein Drucker kommt hierbei zum Einsatz! Für die Teilnahme\ngibt es wiederum einen Stempel ins Logbuch. Wer die erforderliche Anzahl von 3\nStempeln im Leselogbuch zusammen hat\, bekommt ein Zertifikat\, sowie einen\nZeugniseintrag im Halbjahreszeugnis 2025. Außerdem werden alle erfolgreichen\nSommerLeseClubber am 07. September um 9.30 Uhr zur großen Abschlussparty in\nden Cinestar/Springe eingeladen. Wer diesen Spaß nicht versäumen will\, sollte sich\nschnell in der Stadtteilbücherei Hohenlimburg an der Stennertstrasse anmelden.\nDamit es auch ein attraktives Pendant für die Grundschulkinder gibt\, existiert seit\neinigen Jahren parallel zum Sommerleseclub die MAX Lesemonster AG! Auch hier\nfindet die Anmeldung in der Stadtteilbücherei Hohenlimburg statt. Die Kinder erhalten\nebenfalls ein Leselogbuch\, um die gelesenen Bücher einzutragen. Die\nAbschlussparty findet am Montag\, 09.September von 16-18 Uhr in der Bücherei in\nHohenlimburg statt.\nFür jeden ist also etwas dabei\, daher sollten alle Hohenlimburger Kinder ab 6 Jahren\ndie Gelegenheit nutzen und sich für den Sommerleseclub oder die MAX\nLesemonster AG anmelden. Die Teilnahme an beiden Leseaktionen ist absolut\nkostenlos!\nNähere Informationen zu den einzelnen Veranstaltungsangeboten der Bücherei\nfindet man auch unter www.hagen.de/stadtbuecherei oder per Telefon: 02331/207-\n4477.
URL:https://hohenlimbuch.de/veranstaltung/sommerferienprogramm-der-stadtteilbuecherei-hohenlimburg/
END:VEVENT
BEGIN:VEVENT
DTSTART;TZID=Europe/Berlin:20240722T080000
DTEND;TZID=Europe/Berlin:20240722T170000
DTSTAMP:20260419T192540
CREATED:20240722T102237Z
LAST-MODIFIED:20240722T102532Z
UID:881-1721635200-1721667600@hohenlimbuch.de
SUMMARY:Gaming-Tag in der Stadtteilbücherei Hohenlimburg
DESCRIPTION:Die Sommerferien haben längst angefangen und nicht alle Kinder in Hohenlimburg\nsind verreist. Damit keine Langeweile aufkommt hat sich das Team der\nHohenlimburger Bücherei eine tolle Aktion für Kinder ab 6 Jahren\, Jugendliche und\ninteressierte Erwachsene einfallen lassen:\nAm Donnerstag\, 25. Juli von 10-13 Uhr sowie von 15-18 Uhr steht das Thema\n„Gaming“ im Vordergrund in der Stadtteilbücherei an der Stennertstraße. In immer\nmehr öffentlichen Büchereien in Deutschland hat das Thema „Gaming“ bereits\nEingang gefunden. Durch die Einbindung dieses Mediums wird die Bücherei ein Ort\nder Begegnung und des gemeinsamen kreativen Spielens für Kinder\, Jugendliche\nund Erwachsene.\nAm kommenden Donnerstag gehören eine PS4-Station und eine Switch zum\nAngebot am Gaming-Tag. Es wird ein Rocket-League-Turnier angeboten\, FIFA 23\nstehen parat sowie ein Ring Fit Adventure mit der Switch.\nAll das soll dazu beitragen\, die Bücherei in Hohenlimburg zu einem Ort zu machen\nan dem man eine gute Gelegenheit hat\, mit dem Kulturgut „Computerspiel“ in\nKontakt zu kommen\, auch für diejenigen\, denen dieses Medium vielleicht noch fremd\nist.\nEine Anmeldung zum Gaming-Tag der Stadtteilbücherei Hohenlimburg ist nicht\nerforderlich! Der Eintritt ist frei.\nInfos unter Tel.: 02331/207-4477.
URL:https://hohenlimbuch.de/veranstaltung/gaming-tag-in-der-stadtteilbuecherei-hohenlimburg/
END:VEVENT
END:VCALENDAR