BEGIN:VCALENDAR
VERSION:2.0
PRODID:-//Freundeskreis Hohenlimbuch e.V. - ECPv6.8.0//NONSGML v1.0//EN
CALSCALE:GREGORIAN
METHOD:PUBLISH
X-WR-CALNAME:Freundeskreis Hohenlimbuch e.V.
X-ORIGINAL-URL:https://hohenlimbuch.de
X-WR-CALDESC:Veranstaltungen für Freundeskreis Hohenlimbuch e.V.
REFRESH-INTERVAL;VALUE=DURATION:PT1H
X-Robots-Tag:noindex
X-PUBLISHED-TTL:PT1H
BEGIN:VTIMEZONE
TZID:Europe/Berlin
BEGIN:DAYLIGHT
TZOFFSETFROM:+0100
TZOFFSETTO:+0200
TZNAME:CEST
DTSTART:20240331T010000
END:DAYLIGHT
BEGIN:STANDARD
TZOFFSETFROM:+0200
TZOFFSETTO:+0100
TZNAME:CET
DTSTART:20241027T010000
END:STANDARD
END:VTIMEZONE
BEGIN:VEVENT
DTSTART;TZID=Europe/Berlin:20240913T080000
DTEND;TZID=Europe/Berlin:20240913T170000
DTSTAMP:20260419T161044
CREATED:20240913T102214Z
LAST-MODIFIED:20240921T085323Z
UID:898-1726214400-1726246800@hohenlimbuch.de
SUMMARY:Seniorenvorlesen in der Stadtteilbücherei Hohenlimburg
DESCRIPTION:Nach der langen Sommerpause findet am kommenden Donnerstag\, 19. September um 15.30 Uhr wieder das Seniorenvorlesen unter dem Motto „Hörgenuss zur\nKaffeezeit“ in der Stadtteilbücherei Hohenlimburg statt. Die Vorlesepatin Ulrike Böhl liest aus dem bekannten Buch von James Bowen „Bob\,\nder Streuner: die Katze\, die mein Leben veränderte“ vor. Aber nicht nur Katzenliebhaber sind zu diesem Nachmittag eingeladen\, sondern auch alle anderen\ninteressierten Zuhörer und Zuhörerinnen. Alle Interessierten\, die nun neugierig geworden sind\, sollten sich unbedingt an\ndiesem Nachmittag in der Stadtteilbücherei Hohenlimburg in der Stennertstraße 6-8 einfinden. Zeitgleich bietet das Lesecafé Kaffee und selbstgebackenen Kuchen zu kleinen Preisen an\, so dass das Zuhören gleich doppelt Freude macht! Die Veranstaltung dauert ca. 1 Stunde und ist kostenlos. Eine Anmeldung ist nicht\nerforderlich. Infos unter: 02331/207-4477.
URL:https://hohenlimbuch.de/veranstaltung/seniorenvorlesen-in-der-stadtteilbuecherei-hohenlimburg/
END:VEVENT
END:VCALENDAR