BEGIN:VCALENDAR
VERSION:2.0
PRODID:-//Freundeskreis Hohenlimbuch e.V. - ECPv6.8.0//NONSGML v1.0//EN
CALSCALE:GREGORIAN
METHOD:PUBLISH
X-ORIGINAL-URL:https://hohenlimbuch.de
X-WR-CALDESC:Veranstaltungen für Freundeskreis Hohenlimbuch e.V.
REFRESH-INTERVAL;VALUE=DURATION:PT1H
X-Robots-Tag:noindex
X-PUBLISHED-TTL:PT1H
BEGIN:VTIMEZONE
TZID:Europe/Berlin
BEGIN:DAYLIGHT
TZOFFSETFROM:+0100
TZOFFSETTO:+0200
TZNAME:CEST
DTSTART:20240331T010000
END:DAYLIGHT
BEGIN:STANDARD
TZOFFSETFROM:+0200
TZOFFSETTO:+0100
TZNAME:CET
DTSTART:20241027T010000
END:STANDARD
END:VTIMEZONE
BEGIN:VEVENT
DTSTART;TZID=Europe/Berlin:20240930T080000
DTEND;TZID=Europe/Berlin:20240930T170000
DTSTAMP:20260419T143354
CREATED:20240930T120349Z
LAST-MODIFIED:20240930T122030Z
UID:913-1727683200-1727715600@hohenlimbuch.de
SUMMARY:Fantasy-Lesung rund um die Nibelungen in der Stadtteilbücherei Hohenlimburg
DESCRIPTION:Die Stadtteilbücherei Hohenlimburg in der Stennertstrasse 6-8 lädt am Freitag\, 04.\nOktober um 18.30 Uhr zu einer besonderen Fantasy-Lesung ein.\nDer Hohenlimburger Autor Bernd Pollok\, der auch unter dem Pseudonym Paul M.\nHermann schreibt und vielen Hohenlimburgern bereits bekannt ist\, hat ein neues\nBuch veröffentlicht\, das er an diesem Abend vorstellt. In dem Buch „Die\nNibelungenportale“ geht es um Faune\, Drachen\, Elfen\, Zwerge und Vampire\, die in\nder Anderswelt\, aber auch rund um HOHENLIMBURG für Chaos sorgen:\nSchuld daran ist eine uralte Prophezeiung\, die sich nun erfüllen soll. Eine geheime\nBehörde mischt sich ein und Marc und seine Freunde haben alle Hände voll zu tun\,\ndenn dieses Mal sind die magischen Kräfte nicht nur auf ihrer Seite zu finden. Als\nFafnir und Alberich ins Spiel kommen\, sind die Nibelungen und ihre Sagen plötzlich\nwieder aktuell. Portale beginnen sich zu öffnen und an der Hünenpforte kommt es\nzum Showdown…. Über allem aber steht die Frage\, wer wirklich Freund oder Feind\nist! Und was hat der kleine Ort HOHENLIMBURG; der im Nibelungenlied nie erwähnt\nwurde\, mit all dem zu tun?\nEine Anmeldung ist nicht erforderlich. Der Eintritt ist kostenlos!\nWeitere Infos unter Tel.: 02331/207-4477.
URL:https://hohenlimbuch.de/veranstaltung/fantasy-lesung-rund-um-die-nibelungen-in-der-stadtteilbuecherei-hohenlimburg/
END:VEVENT
END:VCALENDAR