BEGIN:VCALENDAR
VERSION:2.0
PRODID:-//Freundeskreis Hohenlimbuch e.V. - ECPv6.8.0//NONSGML v1.0//EN
CALSCALE:GREGORIAN
METHOD:PUBLISH
X-WR-CALNAME:Freundeskreis Hohenlimbuch e.V.
X-ORIGINAL-URL:https://hohenlimbuch.de
X-WR-CALDESC:Veranstaltungen für Freundeskreis Hohenlimbuch e.V.
REFRESH-INTERVAL;VALUE=DURATION:PT1H
X-Robots-Tag:noindex
X-PUBLISHED-TTL:PT1H
BEGIN:VTIMEZONE
TZID:Europe/Berlin
BEGIN:DAYLIGHT
TZOFFSETFROM:+0100
TZOFFSETTO:+0200
TZNAME:CEST
DTSTART:20190331T010000
END:DAYLIGHT
BEGIN:STANDARD
TZOFFSETFROM:+0200
TZOFFSETTO:+0100
TZNAME:CET
DTSTART:20191027T010000
END:STANDARD
END:VTIMEZONE
BEGIN:VEVENT
DTSTART;TZID=Europe/Berlin:20190321T153000
DTEND;TZID=Europe/Berlin:20190321T170000
DTSTAMP:20260426T023505
CREATED:20190306T130037Z
LAST-MODIFIED:20190306T130037Z
UID:485-1553182200-1553187600@hohenlimbuch.de
SUMMARY:Osterbasteln
DESCRIPTION:Am Donnerstag\, den 21. März 2019\, laden wir zum Basteln von Osterkörbchen\, Ostergirlanden und Osterhasentüten aus Papier ein. \nFür Kinder ab 5 Jahren. Anmeldung bis zum 15.03 unter 02331/207-4477.
URL:https://hohenlimbuch.de/veranstaltung/osterbasteln/
CATEGORIES:Basteln
END:VEVENT
END:VCALENDAR